BEGIN:VCALENDAR
VERSION:2.0
PRODID:-//NZTEA - New Zealand Tamil Engineers Association - ECPv6.15.20//NONSGML v1.0//EN
CALSCALE:GREGORIAN
METHOD:PUBLISH
X-ORIGINAL-URL:https://nztea.org.nz
X-WR-CALDESC:Events for NZTEA - New Zealand Tamil Engineers Association
REFRESH-INTERVAL;VALUE=DURATION:PT1H
X-Robots-Tag:noindex
X-PUBLISHED-TTL:PT1H
BEGIN:VTIMEZONE
TZID:Pacific/Auckland
BEGIN:STANDARD
TZOFFSETFROM:+1300
TZOFFSETTO:+1200
TZNAME:NZST
DTSTART:20230401T140000
END:STANDARD
BEGIN:DAYLIGHT
TZOFFSETFROM:+1200
TZOFFSETTO:+1300
TZNAME:NZDT
DTSTART:20230923T140000
END:DAYLIGHT
BEGIN:STANDARD
TZOFFSETFROM:+1300
TZOFFSETTO:+1200
TZNAME:NZST
DTSTART:20240406T140000
END:STANDARD
BEGIN:DAYLIGHT
TZOFFSETFROM:+1200
TZOFFSETTO:+1300
TZNAME:NZDT
DTSTART:20240928T140000
END:DAYLIGHT
BEGIN:STANDARD
TZOFFSETFROM:+1300
TZOFFSETTO:+1200
TZNAME:NZST
DTSTART:20250405T140000
END:STANDARD
BEGIN:DAYLIGHT
TZOFFSETFROM:+1200
TZOFFSETTO:+1300
TZNAME:NZDT
DTSTART:20250927T140000
END:DAYLIGHT
END:VTIMEZONE
BEGIN:VEVENT
DTSTART;TZID=Pacific/Auckland:20241214T183000
DTEND;TZID=Pacific/Auckland:20241214T213000
DTSTAMP:20260420T082445
CREATED:20241105T121207Z
LAST-MODIFIED:20241106T082058Z
UID:965-1734201000-1734211800@nztea.org.nz
SUMMARY:NZTEA FAMILY FIESTA - 2024
DESCRIPTION:Please RSVP by the following link: https://forms.gle/CUCKADwwnDBLWr9E7
URL:https://nztea.org.nz/event/nztea-family-fiesta-2024/
LOCATION:Private: Western Spring Garden Community Hall\, 956 Great North Road\, western Spring\, Auckland\, New Zealand
CATEGORIES:Family Fiesta
END:VEVENT
END:VCALENDAR