BEGIN:VCALENDAR
VERSION:2.0
PRODID:-//NZTEA - New Zealand Tamil Engineers Association - ECPv6.15.20//NONSGML v1.0//EN
CALSCALE:GREGORIAN
METHOD:PUBLISH
X-ORIGINAL-URL:https://nztea.org.nz
X-WR-CALDESC:Events for NZTEA - New Zealand Tamil Engineers Association
REFRESH-INTERVAL;VALUE=DURATION:PT1H
X-Robots-Tag:noindex
X-PUBLISHED-TTL:PT1H
BEGIN:VTIMEZONE
TZID:Pacific/Auckland
BEGIN:STANDARD
TZOFFSETFROM:+1300
TZOFFSETTO:+1200
TZNAME:NZST
DTSTART:20230401T140000
END:STANDARD
BEGIN:DAYLIGHT
TZOFFSETFROM:+1200
TZOFFSETTO:+1300
TZNAME:NZDT
DTSTART:20230923T140000
END:DAYLIGHT
BEGIN:STANDARD
TZOFFSETFROM:+1300
TZOFFSETTO:+1200
TZNAME:NZST
DTSTART:20240406T140000
END:STANDARD
BEGIN:DAYLIGHT
TZOFFSETFROM:+1200
TZOFFSETTO:+1300
TZNAME:NZDT
DTSTART:20240928T140000
END:DAYLIGHT
BEGIN:STANDARD
TZOFFSETFROM:+1300
TZOFFSETTO:+1200
TZNAME:NZST
DTSTART:20250405T140000
END:STANDARD
BEGIN:DAYLIGHT
TZOFFSETFROM:+1200
TZOFFSETTO:+1300
TZNAME:NZDT
DTSTART:20250927T140000
END:DAYLIGHT
END:VTIMEZONE
BEGIN:VEVENT
DTSTART;TZID=Pacific/Auckland:20240807T200000
DTEND;TZID=Pacific/Auckland:20240807T210000
DTSTAMP:20260422T142213
CREATED:20240805T205208Z
LAST-MODIFIED:20240805T205208Z
UID:610-1723060800-1723064400@nztea.org.nz
SUMMARY:NZTEA TECHNICAL DISCUSSION SESSION #12
DESCRIPTION:Topic: Planning Your Development and Property Assessment \nPresenter: Ragu\, Principal at EMACS Group \nDate & Time: 7th August 2024\, 8 PM \nVenue: Online (Join via Microsoft Teams) \nWe look forward to your participation! \n\n\n\n\nnztea.engineering@gmail.com
URL:https://nztea.org.nz/event/nztea-technical-discussion-session-12/
CATEGORIES:Networking forums
END:VEVENT
END:VCALENDAR