BEGIN:VCALENDAR
VERSION:2.0
PRODID:-//NZTEA - New Zealand Tamil Engineers Association - ECPv6.15.20//NONSGML v1.0//EN
CALSCALE:GREGORIAN
METHOD:PUBLISH
X-ORIGINAL-URL:https://nztea.org.nz
X-WR-CALDESC:Events for NZTEA - New Zealand Tamil Engineers Association
REFRESH-INTERVAL;VALUE=DURATION:PT1H
X-Robots-Tag:noindex
X-PUBLISHED-TTL:PT1H
BEGIN:VTIMEZONE
TZID:UTC
BEGIN:STANDARD
TZOFFSETFROM:+0000
TZOFFSETTO:+0000
TZNAME:UTC
DTSTART:20230101T000000
END:STANDARD
END:VTIMEZONE
BEGIN:VEVENT
DTSTART;TZID=UTC:20240821T200000
DTEND;TZID=UTC:20240821T203000
DTSTAMP:20260422T143632
CREATED:20240806T195628Z
LAST-MODIFIED:20240815T065623Z
UID:627-1724270400-1724272200@nztea.org.nz
SUMMARY:NZTEA TECHNICAL DISCUSSION SESSION #13
DESCRIPTION:Topic: Recommendation of design parameters for driven steel piles in ignimbrite from dynamic pile load testing \nPresenter: Rathiv S.\, Associate Geotechnical Engineer@ Coffey \nDate & Time: 21st August 2024\, 8 PM \nVenue: Online \nRegister now to express your interest in our upcoming technical presentation: Technical Presentation RegisterationPlease enable JavaScript in your browser to complete this form.Please enable JavaScript in your browser to complete this form.Name *Email *Any CommentsSubmit   \nWe look forward to your participation!
URL:https://nztea.org.nz/event/technical-discussion-session-13/
CATEGORIES:Networking forums
END:VEVENT
END:VCALENDAR