BEGIN:VCALENDAR
VERSION:2.0
PRODID:-//NZTEA - New Zealand Tamil Engineers Association - ECPv6.15.20//NONSGML v1.0//EN
CALSCALE:GREGORIAN
METHOD:PUBLISH
X-WR-CALNAME:NZTEA - New Zealand Tamil Engineers Association
X-ORIGINAL-URL:https://nztea.org.nz
X-WR-CALDESC:Events for NZTEA - New Zealand Tamil Engineers Association
REFRESH-INTERVAL;VALUE=DURATION:PT1H
X-Robots-Tag:noindex
X-PUBLISHED-TTL:PT1H
BEGIN:VTIMEZONE
TZID:UTC
BEGIN:STANDARD
TZOFFSETFROM:+0000
TZOFFSETTO:+0000
TZNAME:UTC
DTSTART:20230101T000000
END:STANDARD
END:VTIMEZONE
BEGIN:VEVENT
DTSTART;TZID=UTC:20240420T180000
DTEND;TZID=UTC:20240420T193000
DTSTAMP:20260421T074501
CREATED:20240815T211458Z
LAST-MODIFIED:20240815T214508Z
UID:726-1713636000-1713641400@nztea.org.nz
SUMMARY:NZTEA Chess Tournament
DESCRIPTION:NZTEA Chess Tournament Tamil students was conducted successfully to international standard by a group of engineers.80 students participated in the practices NZ wide and 50 students in three age groups participated in the tournament in Auckland. Winners in each group was awarded with trophies and Runners Up in each group was awarded with medals. All participated students received certificates.Thanks to all engineers for your efforts and commitment for last three months to make this tournament success for our Tamil students. \nFor more Photos:https://www.facebook.com/share/p/bkf78WHr1ZzLept2/
URL:https://nztea.org.nz/event/nztea-chess-tournament/
CATEGORIES:Prize-giving
END:VEVENT
END:VCALENDAR