BEGIN:VCALENDAR
VERSION:2.0
PRODID:-//NZTEA - New Zealand Tamil Engineers Association - ECPv6.15.20//NONSGML v1.0//EN
CALSCALE:GREGORIAN
METHOD:PUBLISH
X-WR-CALNAME:NZTEA - New Zealand Tamil Engineers Association
X-ORIGINAL-URL:https://nztea.org.nz
X-WR-CALDESC:Events for NZTEA - New Zealand Tamil Engineers Association
REFRESH-INTERVAL;VALUE=DURATION:PT1H
X-Robots-Tag:noindex
X-PUBLISHED-TTL:PT1H
BEGIN:VTIMEZONE
TZID:UTC
BEGIN:STANDARD
TZOFFSETFROM:+0000
TZOFFSETTO:+0000
TZNAME:UTC
DTSTART:20230101T000000
END:STANDARD
END:VTIMEZONE
BEGIN:VEVENT
DTSTART;TZID=UTC:20240911T200000
DTEND;TZID=UTC:20240911T210000
DTSTAMP:20260420T200651
CREATED:20240904T210831Z
LAST-MODIFIED:20250406T144842Z
UID:834-1726084800-1726088400@nztea.org.nz
SUMMARY:TECHNICAL DISCUSSION SESSION #14
DESCRIPTION:Topic: Design Of Tie-Back Retaining Wall in Liquefiable Soil\n\nPresenter: Rathiv S.\, Associate Geotechnical Engineer@ Coffey\n\nDate & Time: 11 Sept 2024\, 8 PM\n\nVenue: Online\n\nRegister now to express your interest in our upcoming technical presentation: Technical Presentation RegisterationPlease enable JavaScript in your browser to complete this form.Please enable JavaScript in your browser to complete this form.Name *Email *Any CommentsSubmit  \n\nWe look forward to your participation!
URL:https://nztea.org.nz/event/technical-discussion-session-14/
CATEGORIES:Technical Presentation
END:VEVENT
END:VCALENDAR