BEGIN:VCALENDAR
VERSION:2.0
PRODID:-//NZTEA - New Zealand Tamil Engineers Association - ECPv6.15.20//NONSGML v1.0//EN
CALSCALE:GREGORIAN
METHOD:PUBLISH
X-WR-CALNAME:NZTEA - New Zealand Tamil Engineers Association
X-ORIGINAL-URL:https://nztea.org.nz
X-WR-CALDESC:Events for NZTEA - New Zealand Tamil Engineers Association
REFRESH-INTERVAL;VALUE=DURATION:PT1H
X-Robots-Tag:noindex
X-PUBLISHED-TTL:PT1H
BEGIN:VTIMEZONE
TZID:UTC
BEGIN:STANDARD
TZOFFSETFROM:+0000
TZOFFSETTO:+0000
TZNAME:UTC
DTSTART:20220101T000000
END:STANDARD
END:VTIMEZONE
BEGIN:VEVENT
DTSTART;TZID=UTC:20231213T203000
DTEND;TZID=UTC:20231213T213000
DTSTAMP:20260421T162951
CREATED:20240815T211425Z
LAST-MODIFIED:20240815T211425Z
UID:712-1702499400-1702503000@nztea.org.nz
SUMMARY:Technical Discussion Session #03
DESCRIPTION:Timber Portal frame Structure- A case study
URL:https://nztea.org.nz/event/technical-discussion-session-03/
CATEGORIES:Technical Presentation
END:VEVENT
END:VCALENDAR