BEGIN:VCALENDAR
VERSION:2.0
PRODID:-//NZTEA - New Zealand Tamil Engineers Association - ECPv6.15.20//NONSGML v1.0//EN
CALSCALE:GREGORIAN
METHOD:PUBLISH
X-ORIGINAL-URL:https://nztea.org.nz
X-WR-CALDESC:Events for NZTEA - New Zealand Tamil Engineers Association
REFRESH-INTERVAL;VALUE=DURATION:PT1H
X-Robots-Tag:noindex
X-PUBLISHED-TTL:PT1H
BEGIN:VTIMEZONE
TZID:Pacific/Auckland
BEGIN:STANDARD
TZOFFSETFROM:+1300
TZOFFSETTO:+1200
TZNAME:NZST
DTSTART:20240406T140000
END:STANDARD
BEGIN:DAYLIGHT
TZOFFSETFROM:+1200
TZOFFSETTO:+1300
TZNAME:NZDT
DTSTART:20240928T140000
END:DAYLIGHT
BEGIN:STANDARD
TZOFFSETFROM:+1300
TZOFFSETTO:+1200
TZNAME:NZST
DTSTART:20250405T140000
END:STANDARD
BEGIN:DAYLIGHT
TZOFFSETFROM:+1200
TZOFFSETTO:+1300
TZNAME:NZDT
DTSTART:20250927T140000
END:DAYLIGHT
BEGIN:STANDARD
TZOFFSETFROM:+1300
TZOFFSETTO:+1200
TZNAME:NZST
DTSTART:20260404T140000
END:STANDARD
BEGIN:DAYLIGHT
TZOFFSETFROM:+1200
TZOFFSETTO:+1300
TZNAME:NZDT
DTSTART:20260926T140000
END:DAYLIGHT
END:VTIMEZONE
BEGIN:VEVENT
DTSTART;TZID=Pacific/Auckland:20250618T200000
DTEND;TZID=Pacific/Auckland:20250618T210000
DTSTAMP:20260421T145535
CREATED:20250617T213354Z
LAST-MODIFIED:20250617T213355Z
UID:2589-1750276800-1750280400@nztea.org.nz
SUMMARY:NZTEA Presentation 2025 – TP5
DESCRIPTION:This session will explore the Envision framework\, a leading tool for assessing the sustainability of civil infrastructure projects. Envision evaluates environmental\, social\, and economic impacts to promote long-term resilience and community well-being. The talk will demonstrate how Envision is applied in real-world civil engineering practices.Speaker:Dr. Ramanitharan Kandiah is a Professor and Chair of the Department of Environmental Engineering at Central State University in Wilberforce\, Ohio. He is a graduate of the Faculty of Engineering at the University of Peradeniya and holds multiple engineering degrees and professional certifications. Dr. Kandiah directs water resources programs and actively contributes to several engineering societies. He is the recipient of the AEESP Distinguished Service Award and the AAEES Excellence in Environmental Engineering and Science Education Award. Additionally\, he is a co-author of key textbooks on water resources. Topic: Using ENVISION to Guide and Evaluate Sustainability in Civil Engineering Projects \n\n\n\nPresenter: Dr. Ramanitharan Kandiah is a Professor and Chair of the Department of Environmental Engineering at Central State University in Wilberforce\, Ohio \n\n\n\nDate: 18𝐭𝐡 𝐉𝐮𝐧𝐞 𝟐𝟎𝟐𝟓 \n\n\n\nTime: 𝟖:𝟎𝟎 𝐏𝐌 \n\n\n\nLocation: 𝐎𝐧𝐥𝐢𝐧𝐞 (Link will be shared) \n\n\n\nPlease register via link below\,https://forms.gle/bek7nRVKMnrpmcQEA
URL:https://nztea.org.nz/event/nztea-presentation-2025-tp5/
CATEGORIES:Genereal Presentation,Networking forums,Technical Presentation
END:VEVENT
BEGIN:VEVENT
DTSTART;TZID=Pacific/Auckland:20250702T200000
DTEND;TZID=Pacific/Auckland:20250702T210000
DTSTAMP:20260421T145535
CREATED:20250630T101702Z
LAST-MODIFIED:20250630T101917Z
UID:2598-1751486400-1751490000@nztea.org.nz
SUMMARY:𝐍𝐙𝐓𝐄𝐀 𝐓𝐞𝐜𝐡𝐧𝐢𝐜𝐚𝐥 𝐏𝐫𝐞𝐬𝐞𝐧𝐭𝐚𝐭𝐢𝐨𝐧 𝟐𝟎𝟐𝟓- 𝐓𝐏06
DESCRIPTION:The session will feature a presentation on Cyber Security by Dr. Elankayer Sithirasenan\, an IT professional with over 25 years of experience in academia and industry. He specializes in network operations\, cloud computing\, and cybersecurity. \n\n\n\nDr. Sithirasenan worked as a Vocational Teacher at TAFE Queensland\, instructing courses in IT networking\, software development\, cloud computing\, and cybersecurity. Since 2022\, he has been an IT Consultant at SDSCybermatics\, focusing on cloud computing\, cybersecurity\, and software development operations. He has also contributed significantly to WorldSkills Australia as a Skills Expert in Cloud Computing\, mentoring competitors at national and international levels. \n\n\n\n Topic: Presentation on Cyber Security. \n\n\n\nPresenter: Dr. Elankayer Sithirasenan \n\n\n\nDate: 2nd July 2025 \n\n\n\nTime: 𝟖:𝟎𝟎 𝐏𝐌 \n\n\n\nLocation: 𝐎𝐧𝐥𝐢𝐧𝐞 (Link will be shared) \n\n\n\nPlease register via link below\, \n\n\n\nhttps://forms.gle/9Uyzxfn12Hv6P7Pw9
URL:https://nztea.org.nz/event/%f0%9d%90%8d%f0%9d%90%99%f0%9d%90%93%f0%9d%90%84%f0%9d%90%80-%f0%9d%90%93%f0%9d%90%9e%f0%9d%90%9c%f0%9d%90%a1%f0%9d%90%a7%f0%9d%90%a2%f0%9d%90%9c%f0%9d%90%9a%f0%9d%90%a5-%f0%9d%90%8f%f0%9d%90%ab-2/
CATEGORIES:Technical Presentation
END:VEVENT
END:VCALENDAR