BEGIN:VCALENDAR
VERSION:2.0
PRODID:-//NZTEA - New Zealand Tamil Engineers Association - ECPv6.15.20//NONSGML v1.0//EN
CALSCALE:GREGORIAN
METHOD:PUBLISH
X-ORIGINAL-URL:https://nztea.org.nz
X-WR-CALDESC:Events for NZTEA - New Zealand Tamil Engineers Association
REFRESH-INTERVAL;VALUE=DURATION:PT1H
X-Robots-Tag:noindex
X-PUBLISHED-TTL:PT1H
BEGIN:VTIMEZONE
TZID:UTC
BEGIN:STANDARD
TZOFFSETFROM:+0000
TZOFFSETTO:+0000
TZNAME:UTC
DTSTART:20230101T000000
END:STANDARD
END:VTIMEZONE
BEGIN:VEVENT
DTSTART;TZID=UTC:20240612T200000
DTEND;TZID=UTC:20240612T213000
DTSTAMP:20260424T095700
CREATED:20240815T211427Z
LAST-MODIFIED:20240815T211427Z
UID:718-1718222400-1718227800@nztea.org.nz
SUMMARY:Technical Discussion Session #09
DESCRIPTION:Overview of NZ Legislations for NZTEA Engineers
URL:https://nztea.org.nz/event/technical-discussion-session-09/
CATEGORIES:Genereal Presentation
END:VEVENT
BEGIN:VEVENT
DTSTART;TZID=UTC:20240615T180000
DTEND;TZID=UTC:20240615T180000
DTSTAMP:20260424T095700
CREATED:20240815T211458Z
LAST-MODIFIED:20240815T215711Z
UID:727-1718474400-1718474400@nztea.org.nz
SUMMARY:Chithambara Maths Challenge 2024 Prize-giving- Auckland
DESCRIPTION:Chithambara Maths Challenge 2024 Prize-giving held at Auckland on 15th of June 2024.Congratulations to all students.\nThank you for Chief Guest Siva Sivapakiam\, CCO of KIWI Rail..\nThank you for parents for your supports in second year in NZ.\nThank you for NZTEA Committee\, supporters and volunteers.For More photos :https://www.facebook.com/share/p/DbDF568Sg2GTpVZW/
URL:https://nztea.org.nz/event/chithambara-maths-challenge-2024-prize-giving-auckland/
CATEGORIES:Prize-giving
END:VEVENT
BEGIN:VEVENT
DTSTART;TZID=UTC:20240626T200000
DTEND;TZID=UTC:20240626T210000
DTSTAMP:20260424T095700
CREATED:20240815T211442Z
LAST-MODIFIED:20250422T235235Z
UID:719-1719432000-1719435600@nztea.org.nz
SUMMARY:Technical Discussion Session #10
DESCRIPTION:Flood Modelling in New Zealand- Case Study
URL:https://nztea.org.nz/event/technical-discussion-session-10/
CATEGORIES:Technical Presentation
END:VEVENT
END:VCALENDAR