BEGIN:VCALENDAR
VERSION:2.0
PRODID:-//NZTEA - New Zealand Tamil Engineers Association - ECPv6.15.20//NONSGML v1.0//EN
CALSCALE:GREGORIAN
METHOD:PUBLISH
X-ORIGINAL-URL:https://nztea.org.nz
X-WR-CALDESC:Events for NZTEA - New Zealand Tamil Engineers Association
REFRESH-INTERVAL;VALUE=DURATION:PT1H
X-Robots-Tag:noindex
X-PUBLISHED-TTL:PT1H
BEGIN:VTIMEZONE
TZID:UTC
BEGIN:STANDARD
TZOFFSETFROM:+0000
TZOFFSETTO:+0000
TZNAME:UTC
DTSTART:20230101T000000
END:STANDARD
END:VTIMEZONE
BEGIN:VEVENT
DTSTART;TZID=UTC:20240727T180000
DTEND;TZID=UTC:20240727T180000
DTSTAMP:20260421T131515
CREATED:20240815T211458Z
LAST-MODIFIED:20250422T235113Z
UID:728-1722103200-1722103200@nztea.org.nz
SUMMARY:NZTEA's Chithambara Maths' prize-giving- Christchurch_2024
DESCRIPTION:NZTEA’s Chithambara Maths’ prize-giving held in Christchurch on 27th July 2024.Thank you very much Engineers in Christchurch for organising this event!\n\nfor More photos :https://www.facebook.com/share/p/Y8S1PGaGSb21jdcC/
URL:https://nztea.org.nz/event/nzteas-chithambara-maths-prize-giving-christchurch/
CATEGORIES:Prize-giving
END:VEVENT
END:VCALENDAR