BEGIN:VCALENDAR
VERSION:2.0
PRODID:-//NZTEA - New Zealand Tamil Engineers Association - ECPv6.15.20//NONSGML v1.0//EN
CALSCALE:GREGORIAN
METHOD:PUBLISH
X-ORIGINAL-URL:https://nztea.org.nz
X-WR-CALDESC:Events for NZTEA - New Zealand Tamil Engineers Association
REFRESH-INTERVAL;VALUE=DURATION:PT1H
X-Robots-Tag:noindex
X-PUBLISHED-TTL:PT1H
BEGIN:VTIMEZONE
TZID:UTC
BEGIN:STANDARD
TZOFFSETFROM:+0000
TZOFFSETTO:+0000
TZNAME:UTC
DTSTART:20230101T000000
END:STANDARD
END:VTIMEZONE
BEGIN:VEVENT
DTSTART;TZID=UTC:20240702T193000
DTEND;TZID=UTC:20240702T203000
DTSTAMP:20260422T194826
CREATED:20240815T211443Z
LAST-MODIFIED:20240815T211443Z
UID:721-1719948600-1719952200@nztea.org.nz
SUMMARY:General Discussion Session
DESCRIPTION:Understanding the Tax implications of Investments and Property
URL:https://nztea.org.nz/event/general-discussion-session/
CATEGORIES:Genereal Presentation
END:VEVENT
END:VCALENDAR